BEGIN:VCALENDAR
VERSION:2.0
PRODID:-//ChamberMaster//Event Calendar 2.0//EN
METHOD:PUBLISH
X-PUBLISHED-TTL:P3D
REFRESH-INTERVAL:P3D
CALSCALE:GREGORIAN
BEGIN:VEVENT
DTSTART:20260523T180000Z
DTEND:20260523T200000Z
X-MICROSOFT-CDO-ALLDAYEVENT:FALSE
SUMMARY:ART SPEAKS #4 CELEBRATIONS
DESCRIPTION:ART SPEAKS #4 CELEBRATION\n\nThe North Port Art Center will sponsor its fourth "Art Speaks " celebration Saturday\, May 23rd at the Shannon Staub Library\, 4675 Career Lane\, North Port from 2-4 pm. If you wish to display your art please submit 2-3 photos of artwork by May 1st. Each piece must be framed for hanging or placed on easel for display. Artwork must be present by 1:45 pm day of event and artist must stay until 4pm for pick up. Artist will be asked to describe what has inspired them for work presented. For additional information text Gale West at 941-380-3162.
X-ALT-DESC;FMTTYPE=text/html:<p>ART SPEAKS #4 CELEBRATION</p>\n\n<p>The North Port Art Center will sponsor its fourth &ldquo\;Art Speaks &ldquo\; celebration Saturday\, May 23<sup>rd</sup> at the Shannon Staub Library\, 4675 Career Lane\, North Port from 2-4 pm. If you wish to display your art please submit 2-3 photos of artwork by May 1<sup>st</sup>. Each piece must be framed for hanging or placed on easel for display. Artwork must be present by 1:45 pm day of event and artist must stay until 4pm for pick up. Artist will be asked to describe what has inspired them for work presented. For additional information text Gale West at 941-380-3162.</p>\n
LOCATION:Shannon Staub Library\, 4675 Career Lane\, North Port\, FL
UID:e.798.25123
SEQUENCE:3
DTSTAMP:20260424T200959Z
URL:https://www.northportareachamber.com/events/details/art-speaks-4-celebrations-25123
END:VEVENT

END:VCALENDAR
