BEGIN:VCALENDAR
VERSION:2.0
PRODID:-//ChamberMaster//Event Calendar 2.0//EN
METHOD:PUBLISH
X-PUBLISHED-TTL:P3D
REFRESH-INTERVAL:P3D
CALSCALE:GREGORIAN
BEGIN:VEVENT
DTSTART:20260113T223000Z
DTEND:20260114T000000Z
X-MICROSOFT-CDO-ALLDAYEVENT:FALSE
SUMMARY:Business After Hours - 1/13/26 - Elevate
DESCRIPTION:Elevate is our host for the January Business After Hours. The location is 164 Eric Street\, Port Charlotte. The networking gets started at 5:30 PM\, with a short program taking place after 6 PM. During that program\, an update on Chamber committee activities will be given\, along with announcements regarding upcoming events.  Door prizes will be drawn after the announcements.  You are encouraged to bring a door prize to promote your business or organization.\n\n\n\nPlease register in advance.
X-ALT-DESC;FMTTYPE=text/html:<span style="text-align: justify\;">Elevate is our host for the January Business After Hours. The location is 164 Eric Street\, Port Charlotte. The networking gets started at 5:30 PM\, with a short program taking place after 6 PM. During that program\, an update on Chamber committee activities will be given\, along with announcements regarding upcoming events.&nbsp\; Door prizes will be drawn after the announcements.&nbsp\; You are encouraged to bring a door prize to promote your business or organization.</span><br style="text-align: justify\;" />\n<br style="text-align: justify\;" />\n<span style="text-align: justify\;">Please register in advance.</span>
LOCATION:Elevate 164 Eric Street Port Charlotte
UID:e.798.24309
SEQUENCE:3
DTSTAMP:20260425T135417Z
URL:https://www.northportareachamber.com/events/details/business-after-hours-1-13-26-elevate-24309
END:VEVENT

END:VCALENDAR
