BEGIN:VCALENDAR
VERSION:2.0
PRODID:-//ChamberMaster//Event Calendar 2.0//EN
METHOD:PUBLISH
X-PUBLISHED-TTL:P3D
REFRESH-INTERVAL:P3D
CALSCALE:GREGORIAN
BEGIN:VEVENT
DTSTART:20220830T210000Z
DTEND:20220830T230000Z
X-MICROSOFT-CDO-ALLDAYEVENT:FALSE
SUMMARY:Chamber Champion Appreciation Reception 2022
DESCRIPTION:Join the North Port Area Chamber of Commerce as we express our appreciation and gratitude to the North Port Area Chamber of Commerce 2021-2022 Chamber Champions.\n\n\n\nFREE heavy hors d'oeuvres\, beer\, wine\, and non-alcoholic beverages will be provided.\n\n\n\nRSVP by Friday\, August 26\, 2022.  (Registration limited to 100 people)
X-ALT-DESC;FMTTYPE=text/html:Join the North Port Area Chamber of Commerce as we express our appreciation and gratitude to the North Port Area Chamber of Commerce 2021-2022 Chamber Champions.<br />\n<br />\nFREE heavy hors d&#39\;oeuvres\, beer\, wine\, and non-alcoholic beverages will be provided.<br />\n<br />\nRSVP by Friday\, August 26\, 2022.&nbsp\; (Registration limited to 100 people)
LOCATION:Hampton Inn & Suites 5664 Tuscola Blvd.\, North Port
UID:e.798.17449
SEQUENCE:3
DTSTAMP:20260424T182540Z
URL:https://www.northportareachamber.com/events/details/chamber-champion-appreciation-reception-2022-17449
END:VEVENT

END:VCALENDAR
