BEGIN:VCALENDAR
VERSION:2.0
PRODID:-//ChamberMaster//Event Calendar 2.0//EN
METHOD:PUBLISH
X-PUBLISHED-TTL:P3D
REFRESH-INTERVAL:P3D
CALSCALE:GREGORIAN
BEGIN:VEVENT
DTSTART:20180928T130000Z
DTEND:20180928T160000Z
X-MICROSOFT-CDO-ALLDAYEVENT:FALSE
SUMMARY:Job & Career Fair 9/28/2018
DESCRIPTION:The North Port Chamber of Commerce will be hosting a Job & Career Fair on Friday\, September 28\, 2018 from 9:00 am - 12:00 pm at the George Mullen Activity Center.  Featuring an Employment Opportunity Vendor Expo.  Free to Job Seekers - List of Participants here.
X-ALT-DESC;FMTTYPE=text/html:The North Port Chamber of Commerce will be hosting a Job &amp\; Career Fair on Friday\, September 28\, 2018 from 9:00 am&nbsp\;- 12:00 pm&nbsp\;at the George Mullen Activity Center.&nbsp\; Featuring an Employment Opportunity&nbsp\;Vendor Expo.&nbsp\; Free to Job Seekers -<a href="https://chambermaster.blob.core.windows.net/userfiles/UserFiles/chambers/798/File/2018JobandCareerFairParticipants092118.pdf"> </a><a href="https://chambermaster.blob.core.windows.net/userfiles/UserFiles/chambers/798/File/2018JobandCareerFairParticipants1.pdf">List of Participants here</a><a href="https://chambermaster.blob.core.windows.net/userfiles/UserFiles/chambers/798/File/2018JobandCareerFairParticipants091918.pdf">.</a><br />\n<br />\n&nbsp\;
LOCATION:George Mullen Activity Center 1602 Kramer Way\, North Port\, FL 34286
UID:e.798.7198
SEQUENCE:3
DTSTAMP:20260425T104803Z
URL:https://www.northportareachamber.com/events/details/job-career-fair-9-28-2018-7198
END:VEVENT

END:VCALENDAR
