BEGIN:VCALENDAR
VERSION:2.0
PRODID:-//ChamberMaster//Event Calendar 2.0//EN
METHOD:PUBLISH
X-PUBLISHED-TTL:P3D
REFRESH-INTERVAL:P3D
CALSCALE:GREGORIAN
BEGIN:VEVENT
DTSTART:20180913T153000Z
DTEND:20180913T170000Z
X-MICROSOFT-CDO-ALLDAYEVENT:FALSE
SUMMARY:Lunch & Learn Workshop
DESCRIPTION:How Successful Business Owners Make Good Decisions\n\nHow do you make decisions in your small business?  Successful people use their goals to navigate to the right choice.  Are your choices based on gut instinct\, or on a spreadsheet's worth of pros and cons?  Everyone has their own decision-making style\, but for the best results\, you need to balance three factors:  Brain (facts)\, Heart (feelings) and Soul (gut).  Registration is requested to get a seat and lunch.\n\nDownload Flyer Here
X-ALT-DESC;FMTTYPE=text/html:<strong>How Successful Business Owners Make Good Decisions</strong><br />\nHow do you make decisions in your small business?&nbsp\; Successful people use their goals to navigate to the right choice.&nbsp\; Are your choices based on gut instinct\, or on a spreadsheet&#39\;s worth of pros and cons?&nbsp\; Everyone has their own decision-making style\, but for the best results\, you need to balance three factors:&nbsp\; Brain (facts)\, Heart (feelings) and Soul (gut).&nbsp\; Registration is requested to get a seat and lunch.<br />\n<a href="https://chambermaster.blob.core.windows.net/userfiles/UserFiles/chambers/798/File/2018FlyerLunchLearn.pdf">Download Flyer Here</a><br />\n<br />\n&nbsp\;
LOCATION:All workshops are held at the Community Room at Sarasota Memorial Healthcare\, 2345 Bobcat Village Center Road in North Port on the 2nd floor.
UID:e.798.6770
SEQUENCE:3
DTSTAMP:20260420T011926Z
URL:https://www.northportareachamber.com/events/details/lunch-learn-workshop-09-13-2018-6770
END:VEVENT

END:VCALENDAR
