BEGIN:VCALENDAR
VERSION:2.0
PRODID:-//ChamberMaster//Event Calendar 2.0//EN
METHOD:PUBLISH
X-PUBLISHED-TTL:P3D
REFRESH-INTERVAL:P3D
CALSCALE:GREGORIAN
BEGIN:VEVENT
DTSTART:20190815T153000Z
DTEND:20190815T170000Z
X-MICROSOFT-CDO-ALLDAYEVENT:FALSE
SUMMARY:Network@Noon
DESCRIPTION:Network At Noon lunches are an opportunity for chamber members to stand up and give their sixty second  "Elevator Speech" and talk about their business\, product\, or service hosted by a chamber partner at a new location each month.  Reservations are required. Cost of $15 per person for Chamber partners or $20.00 per person at the door.  $20 for Chamber guests.\n\n\n\nPlease register.   Reservations are required for Chamber Members & Non-Members.\n\n\n\nDownload Flyer
X-ALT-DESC;FMTTYPE=text/html:Network At Noon lunches are an opportunity for chamber members to stand up and give their&nbsp\;sixty second &nbsp\;&quot\;Elevator Speech&quot\; and talk about their business\, product\, or service hosted by a chamber partner at a new location each month.&nbsp\; Reservations are required.&nbsp\;Cost of $15 per person&nbsp\;for Chamber partners or $20.00 per person at the door.&nbsp\;&nbsp\;$20 for Chamber guests.<br />\n<br />\nPlease register.&nbsp\; &nbsp\;Reservations are required for Chamber Members &amp\; Non-Members.<br />\n<br />\n<a href="https://chambermaster.blob.core.windows.net/userfiles/UserFiles/chambers/798/File/NetworkatNoonAugust.pdf">Download Flyer</a><br />\n&nbsp\;
LOCATION:Gene Matthews Boys & Girls Club 6851 S. Biscayne Dr.\, North Port
UID:e.798.7385
SEQUENCE:3
DTSTAMP:20260421T184133Z
URL:https://www.northportareachamber.com/events/details/network-noon-08-15-2019-7385
END:VEVENT

END:VCALENDAR
