BEGIN:VCALENDAR
VERSION:2.0
PRODID:-//ChamberMaster//Event Calendar 2.0//EN
METHOD:PUBLISH
X-PUBLISHED-TTL:P3D
REFRESH-INTERVAL:P3D
CALSCALE:GREGORIAN
BEGIN:VEVENT
DTSTART:20260507T213000Z
DTEND:20260507T230000Z
X-MICROSOFT-CDO-ALLDAYEVENT:FALSE
SUMMARY:NPYP May 7\, 2026 Networking - Charlie Foxtrot Brewing
DESCRIPTION:Come and join the North Port Young Professionals for an enjoyable evening of networking with local young professionals at Charlie Foxtrot Brewing\, 1700 Tamiami Trail\, Unit A-5\, Port Charlotte.  Remember to bring your business cards and a door prize for an additional opportunity to promote your business. Please Register Here.
X-ALT-DESC;FMTTYPE=text/html:Come and join the North Port Young Professionals for an enjoyable evening of networking with local young professionals at Charlie Foxtrot Brewing\, 1700 Tamiami Trail\, Unit A-5\, Port Charlotte.&nbsp\; Remember to bring your business cards and a door prize for an additional opportunity to promote your business.<span style="font-size: 16px\;"><b>&nbsp\;<a href="https://northportyp.com/event/may-networking/">Please Register Here.</a></b></span>
LOCATION:Charlie Foxtrot Brewing 1700 Tamiami Trail\, Unite A-5 Port Charlotte
UID:e.798.25128
SEQUENCE:3
DTSTAMP:20260421T122832Z
URL:https://www.northportareachamber.com/events/details/npyp-may-7-2026-networking-charlie-foxtrot-brewing-25128
END:VEVENT

END:VCALENDAR
