BEGIN:VCALENDAR
VERSION:2.0
PRODID:-//ChamberMaster//Event Calendar 2.0//EN
METHOD:PUBLISH
X-PUBLISHED-TTL:P3D
REFRESH-INTERVAL:P3D
CALSCALE:GREGORIAN
BEGIN:VEVENT
DTSTART:20211218T180000Z
DTEND:20211218T210000Z
X-MICROSOFT-CDO-ALLDAYEVENT:FALSE
SUMMARY:Oneblood Drive @ Peace River Botanical & Sculpture Gardens
DESCRIPTION:Oneblood Blood Drive @ Peace River Botanical & Sculpture Gardens! Saves lives by donating and receive: Oneblood fleece blanket\, $10 egift card\, Chick-Fil-A promo code\, 10% off Garden giftshop\, 25% Garden membership! Afterwards relax and recuperate while exploring our sanctuary of art & nature!
X-ALT-DESC;FMTTYPE=text/html:Oneblood Blood Drive @ Peace River Botanical &amp\; Sculpture Gardens! Saves lives by donating and receive: Oneblood fleece blanket\, $10 egift card\, Chick-Fil-A promo code\, 10% off Garden giftshop\, 25% Garden membership! Afterwards relax and recuperate while exploring our sanctuary of art &amp\; nature!&nbsp\;
LOCATION:Peace River Botanical Gardens\, 5827 Riverside Drive\, Punta Gorda\, Florida 33982
UID:e.798.17012
SEQUENCE:3
DTSTAMP:20260421T233052Z
URL:https://www.northportareachamber.com/events/details/oneblood-drive-peace-river-botanical-sculpture-gardens-17012
END:VEVENT

END:VCALENDAR
