BEGIN:VCALENDAR
VERSION:2.0
PRODID:-//ChamberMaster//Event Calendar 2.0//EN
METHOD:PUBLISH
X-PUBLISHED-TTL:P3D
REFRESH-INTERVAL:P3D
CALSCALE:GREGORIAN
BEGIN:VEVENT
DTSTART:20260723T120000Z
DTEND:20260723T160000Z
X-MICROSOFT-CDO-ALLDAYEVENT:FALSE
SUMMARY:Quarterly Seminar Series - July 23 2026 - Breakthrough Brilliance
DESCRIPTION:Power through your stopping points with Breakthrough Brilliance.\n\nBreak through what's holding you back. Unlock the capabilities achievers use to transform stopping points into turning points.\n\nPRESENTED BY: Joanne Cumiskey\, Growth Strategist & Success Builder - Business Consultant/Coaching Partner
X-ALT-DESC;FMTTYPE=text/html:<b style=""><span style="font-size: 18px\;">Power through your stopping points with Breakthrough Brilliance.<br />\n<span style="font-size:14px\;">Break through what&#39\;s holding you back.&nbsp\;Unlock the capabilities achievers use to transform stopping points into turning points.</span></span><br />\n<span style="font-size: 16px\;"><span style="font-size:18px\;">PRESENTED BY: Joanne Cumiskey\, Growth Strategist &amp\; Success Builder - <span style="font-size:16px\;">Business Consultant/Coaching Partner</span></span></span></b>
LOCATION:Suncoast Technical College 4445 Career Lane North Port
UID:e.798.25129
SEQUENCE:3
DTSTAMP:20260423T011135Z
URL:https://www.northportareachamber.com/events/details/quarterly-seminar-series-july-23-2026-breakthrough-brilliance-25129
END:VEVENT

END:VCALENDAR
