BEGIN:VCALENDAR
VERSION:2.0
PRODID:-//ChamberMaster//Event Calendar 2.0//EN
METHOD:PUBLISH
X-PUBLISHED-TTL:P3D
REFRESH-INTERVAL:P3D
CALSCALE:GREGORIAN
BEGIN:VEVENT
DTSTART:20260502T130000Z
DTEND:20260502T200000Z
X-MICROSOFT-CDO-ALLDAYEVENT:FALSE
SUMMARY:"Serve Up the Sound" Leadership North Port Pickleball Tournament
DESCRIPTION:"Serve Up the Sound" Leadership North Port Pickleball Tournament\nSponsored by Achieva\n\nBenefiting the Youth Musical Arts Academy of North Port\n\nJoin us for a pickleball tournament with a twist. 'Serve Up the Sound' brings the community together for a fun day on the courts while supporting a great local cause.\n\nThis event will use a Pickleball Poker format. Players register individually and will be randomly paired with a new partner each round. After every round\, winners draw a playing card. At the end of the tournament\, the best five-card poker hands win.\n\nEvery game counts\, every card draw matters\, and anyone can end up with a winning hand!\n\nCash prizes will be awarded for the top poker hands.\nClick on this link to register to play  https://teamsideline.com/sites/teamdoogie/program/110148/Pickleball-Fundraiser-YMAA-of-North-Port
X-ALT-DESC;FMTTYPE=text/html:<span style="color:rgb(0\, 0\, 0)\; font-family:system-ui\,-apple-system\,segoe ui\,roboto\,helvetica neue\,noto sans\,liberation sans\,arial\,sans-serif\,apple color emoji\,segoe ui emoji\,segoe ui symbol\,noto color emoji\; font-size:16px"><strong>&quot\;Serve Up the Sound&quot\; Leadership North Port Pickleball Tournament</strong></span>\n<p><span style="font-size:16px\;"><strong>Sponsored by Achieva</strong></span><br />\n<span style="font-size:16px\;"><strong>Benefiting the Youth Musical Arts Academy of North Port</strong></span></p>\n\n<p>Join us for a pickleball tournament with a twist. &#39\;Serve Up the Sound&#39\; brings the community together for a fun day on the courts while supporting a great local cause.</p>\n\n<p>This event will use a&nbsp\;Pickleball Poker format. Players register individually and will be randomly paired with a new partner each round. After every round\, winners draw a playing card. At the end of the tournament\, the best five-card poker hands win.</p>\n\n<p>Every game counts\, every card draw matters\, and anyone can end up with a winning hand!</p>\n\n<p>Cash prizes will be awarded for the top poker hands.</p>\nClick on this link to register to play&nbsp\; <span style="color:#FF0000\;"><span style="font-size:16px\;"><strong>https://teamsideline.com/sites/teamdoogie/program/110148/Pickleball-Fundraiser-YMAA-of-North-Port</strong></span></span><br />\n&nbsp\;
LOCATION:Highland Ridge Park Pickleball Courts 6226 Kenwood Drive North Port
UID:e.798.25103
SEQUENCE:3
DTSTAMP:20260423T064917Z
URL:https://www.northportareachamber.com/events/details/serve-up-the-sound-leadership-north-port-pickleball-tournament-25103
END:VEVENT

END:VCALENDAR
