BEGIN:VCALENDAR
VERSION:2.0
PRODID:-//ChamberMaster//Event Calendar 2.0//EN
METHOD:PUBLISH
X-PUBLISHED-TTL:P3D
REFRESH-INTERVAL:P3D
CALSCALE:GREGORIAN
BEGIN:VEVENT
DTSTART:20260526T220000Z
DTEND:20260526T230000Z
X-MICROSOFT-CDO-ALLDAYEVENT:FALSE
SUMMARY:SOCIAL SECURITY - TAXES IN RETIREMENT
DESCRIPTION:Take Control of Your Taxes In Retirement\n\n\n\nMany retirees are surprised by how much taxes can impact their income but with the right planning\, you can keep more of the money you've worked so hard to earn.\n\n\n\nJoin us for an engaging educational session where you'll learn actionable strategies to optimize Social Security benefits and minimize taxes\, helping you build a stronger and more confident retirement plan.\n\n\n\n\n\n\n\nTopics We'll Cover:\n\n\n\nIRA distributions and required minimum distributions (RMDs)\n\nSocial Security and Medicare considerations\n\nTaxation of investment income\n\nEffective tax-planning strategies\n\nCreating sustainable retirement income\n\nSpousal benefit planning\n\n\n\n\n\nSEMINAR DATES:\n\n\n\nMAY 26th\, 2026 11:00 AM & 6:00 PM\n\n\n\n\n\nVENUE\n\n\n\nFlorida Southwestern College\, Charlotte Campus\n\nBuilding D\, Room 108\n\n26300 Airport Rd\, Punta Gorda\, FL 33950\n\n\n\n\n\nSeating is limited don't miss this opportunity to safeguard your retirement income.\n\n\n\n\n\n\n\nRegister here:\n\nhttps://www.precisefsolutions.com/events\n\n\n\n\n\n\n\n#RetirementPlanning #ProtectYourIncome #SocialSecurityPlanning #TaxSmartRetirement
X-ALT-DESC;FMTTYPE=text/html:Take Control of Your Taxes In Retirement<br />\n<br />\nMany retirees are surprised by how much taxes can impact their income&mdash\;but with the right planning\, you can keep more of the money you&rsquo\;ve worked so hard to earn.<br />\n<br />\nJoin us for an engaging educational session where you&rsquo\;ll learn actionable strategies to optimize Social Security benefits and minimize taxes\, helping you build a stronger and more confident retirement plan.<br />\n<br />\n<br />\n<br />\nTopics We&rsquo\;ll Cover:<br />\n<br />\nIRA distributions and required minimum distributions (RMDs)<br />\nSocial Security and Medicare considerations<br />\nTaxation of investment income<br />\nEffective tax-planning strategies<br />\nCreating sustainable retirement income<br />\nSpousal benefit planning<br />\n<br />\n<br />\nSEMINAR DATES:<br />\n<br />\nMAY 26th\, 2026 11:00 AM &amp\; 6:00 PM<br />\n<br />\n<br />\nVENUE<br />\n<br />\nFlorida Southwestern College\, Charlotte Campus<br />\nBuilding D\, Room 108<br />\n26300 Airport Rd\, Punta Gorda\, FL 33950<br />\n<br />\n<br />\nSeating is limited&mdash\;don&rsquo\;t miss this opportunity to safeguard your retirement income.<br />\n<br />\n<br />\n<br />\nRegister here:<br />\nhttps://www.precisefsolutions.com/events<br />\n<br />\n<br />\n<br />\n#RetirementPlanning #ProtectYourIncome #SocialSecurityPlanning #TaxSmartRetirement
LOCATION:VENUE Florida Southwestern College\, Charlotte Campus Building D\, Room 108 26300 Airport Rd\, Punta Gorda\, FL 33950
UID:e.798.25127
SEQUENCE:3
DTSTAMP:20260421T131104Z
URL:https://www.northportareachamber.com/events/details/social-security-taxes-in-retirement-05-26-2026-25127
END:VEVENT

END:VCALENDAR
